BEGIN:VCALENDAR
VERSION:2.0
PRODID:-//The Ethos - ECPv6.15.20//NONSGML v1.0//EN
CALSCALE:GREGORIAN
METHOD:PUBLISH
X-ORIGINAL-URL:https://ethospueblo.com
X-WR-CALDESC:Events for The Ethos
REFRESH-INTERVAL;VALUE=DURATION:PT1H
X-Robots-Tag:noindex
X-PUBLISHED-TTL:PT1H
BEGIN:VTIMEZONE
TZID:America/Denver
BEGIN:DAYLIGHT
TZOFFSETFROM:-0700
TZOFFSETTO:-0600
TZNAME:MDT
DTSTART:20250309T090000
END:DAYLIGHT
BEGIN:STANDARD
TZOFFSETFROM:-0600
TZOFFSETTO:-0700
TZNAME:MST
DTSTART:20251102T080000
END:STANDARD
BEGIN:DAYLIGHT
TZOFFSETFROM:-0700
TZOFFSETTO:-0600
TZNAME:MDT
DTSTART:20260308T090000
END:DAYLIGHT
BEGIN:STANDARD
TZOFFSETFROM:-0600
TZOFFSETTO:-0700
TZNAME:MST
DTSTART:20261101T080000
END:STANDARD
BEGIN:DAYLIGHT
TZOFFSETFROM:-0700
TZOFFSETTO:-0600
TZNAME:MDT
DTSTART:20270314T090000
END:DAYLIGHT
BEGIN:STANDARD
TZOFFSETFROM:-0600
TZOFFSETTO:-0700
TZNAME:MST
DTSTART:20271107T080000
END:STANDARD
END:VTIMEZONE
BEGIN:VEVENT
DTSTART;TZID=America/Denver:20260422T180000
DTEND;TZID=America/Denver:20260422T210000
DTSTAMP:20260420T055122
CREATED:20260311T193331Z
LAST-MODIFIED:20260413T194346Z
UID:10001185-1776880800-1776891600@ethospueblo.com
SUMMARY:Clothing Swap
DESCRIPTION:Join us for our first public clothing swap! \nBring your gently used clothing and give it new life at this unique event ❤ \nPlease see participant guideline for details – https://docs.google.com/document/d/1gXI725jFcWT-nI_3nhI-2-NSv_M6SnYFijPVEQWz-ok/edit?usp=sharing
URL:https://ethospueblo.com/ticket/clothing-exchange/
END:VEVENT
BEGIN:VEVENT
DTSTART;TZID=America/Denver:20260423T180000
DTEND;TZID=America/Denver:20260423T210000
DTSTAMP:20260420T055122
CREATED:20260323T193119Z
LAST-MODIFIED:20260323T193119Z
UID:10001205-1776967200-1776978000@ethospueblo.com
SUMMARY:SYG Movie Night
DESCRIPTION:Movie Night hosted by our local (queer🏳️‍🌈) Sunstone Youth Group! Each month we will display a new fun movie. The theme is: there is no theme!
URL:https://ethospueblo.com/ticket/syg-movie-night/
END:VEVENT
BEGIN:VEVENT
DTSTART;TZID=America/Denver:20260424T170000
DTEND;TZID=America/Denver:20260424T200000
DTSTAMP:20260420T055122
CREATED:20260318T204614Z
LAST-MODIFIED:20260318T204614Z
UID:10001198-1777050000-1777060800@ethospueblo.com
SUMMARY:Queertastic Book Faire
DESCRIPTION:We are partnering with the Pueblo Library once again to bring back the Queertastic Book Faire! We will have a select collection of books authored by and celebrating the Queer community.  Sign up for a library card on the spot\, and check out some books by your favorite author\, or find something new! We will also have Drag Story Time (sponsored by The Ethos)\, quiet reading areas\, and delicious drink specials! Come enjoy this is a FREE event with your family\, and find your next read for spring!
URL:https://ethospueblo.com/ticket/queertastic-book-faire-2/
END:VEVENT
BEGIN:VEVENT
DTSTART;TZID=America/Denver:20260424T170000
DTEND;TZID=America/Denver:20260424T210000
DTSTAMP:20260420T055122
CREATED:20260413T194846Z
LAST-MODIFIED:20260413T194846Z
UID:10001224-1777050000-1777064400@ethospueblo.com
SUMMARY:Family Game Night
DESCRIPTION:We’re reserving the last Friday of the month in April and May for a Family Game Night! Bring the kiddos and play one of our games\, or bring your own for a change of scenery. Meet and mingle with other parents and kids\, while you enjoy special drink pitchers (kid friendly!)\, and some delicious family snacking and meal deals!
URL:https://ethospueblo.com/ticket/family-game-night-7/
LOCATION:The Ethos\, 615 E Mesa Ave\, Pueblo\, United States
ORGANIZER;CN="The Ethos":MAILTO:info@ethospueblo.com
END:VEVENT
BEGIN:VEVENT
DTSTART;TZID=America/Denver:20260425T190000
DTEND;TZID=America/Denver:20260425T230000
DTSTAMP:20260420T055122
CREATED:20260225T004648Z
LAST-MODIFIED:20260318T174548Z
UID:10001174-1777143600-1777158000@ethospueblo.com
SUMMARY:Goth Night
DESCRIPTION:Goth Night is a monthly dark dance night for anyone drawn to shadow\, atmosphere\, and underground sound. Expect a night rooted in goth\, post-punk\, industrial\, darkwave\, and related genres—moody\, heavy\, and meant to be felt on the dance floor. \nMusic \nDJ Garnet \nTime \n7:00 PM – 11:00 PM \nCover \n$5 online \n$10 at the door \nHalf off at the door during the first hour if you are dressed on theme \nAge Info \nAll ages welcome. \nAnyone 15 and under must have adult supervision after 9 PM. \n  \nUpcoming Dates \nJanuary 31\, 2026 \nFebruary 28\, 2026 \nMarch 28\, 2026 \nApril 25\, 2026 \nMay 30\, 2026 \n  \nDress dark. Dress intentional. Or come as you are. \nThis is a space to dance\, exist\, and gather in the dark.
URL:https://ethospueblo.com/ticket/goth-night-24/
END:VEVENT
BEGIN:VEVENT
DTSTART;TZID=America/Denver:20260429T170000
DTEND;TZID=America/Denver:20260429T220000
DTSTAMP:20260420T055122
CREATED:20260309T213809Z
LAST-MODIFIED:20260309T213809Z
UID:10001183-1777482000-1777500000@ethospueblo.com
SUMMARY:Bar and Craft Night
DESCRIPTION:What exactly IS Bar & Craft Night? Great question\, we would love to tell you… See\, how it works is you come to the bar\, right? And you bring your latest craft project (or try one of ours) and have fun hanging out with people and working on your project. Do you have to be good at anything? No. Do you have to know what you’re doing? Also no (and how lucky for us).Just show up with or without a craft project\, and get crafty with us! We’ll have tools\, bits and bobs\, and helpful people around.
URL:https://ethospueblo.com/ticket/bar-and-craft-night-2/
END:VEVENT
BEGIN:VEVENT
DTSTART;TZID=America/Denver:20260430T180000
DTEND;TZID=America/Denver:20260430T200000
DTSTAMP:20260420T055122
CREATED:20260302T004631Z
LAST-MODIFIED:20260302T004631Z
UID:10001175-1777572000-1777579200@ethospueblo.com
SUMMARY:Silent Book Club
DESCRIPTION:If you like reading books in bars\, come commune with like-minded folk just looking for the same. The last Thursday of every month is our Silent Book Club 📚 \nWe welcome readers of all genres to come relax\, enjoy a beverage and a snack\, and just make a night of going out to read!  The chill itinerary includes time to chat\, and buy food and drinks from 6-6:30pm\, silent reading from 6:30-7:30pm\, and from 7:30-8pm there is optional socializing or continued reading. Readers are welcome to get cozy in the lounge for a more quiet atmosphere\, or post up in the bar and read unbothered in a social space. This is a FREE monthly event.
URL:https://ethospueblo.com/ticket/silent-book-club-44/
END:VEVENT
END:VCALENDAR